BEGIN:VCALENDAR
VERSION:2.0
PRODID: -//CMS 5.0 //NONSGML //DE
BEGIN:VEVENT
SUMMARY:Konfirmationsgottesdienst
DESCRIPTION:\n\nhttps://bezirk-kiel.nak-nordost.de/db/594826
UID:594826@bezirk-kiel.nak-nordost.de
LOCATION:Jürgen Fellensiek
CATEGORIES:Gemeinde Kiel-Nord,Kirchenbezirk Kiel (Alle Gemeinden),Kirchenbezirk Kiel,Kinder
X-ORGANIZER:
STATUS:CONFIRMED
CLASS:PUBLIC
DTSTART:20260503T080000Z
DTEND:20260503T093000Z
DTSTAMP:20260424T132021Z
CREATED:20260318T074306Z
LAST-MODIFIED:20260318T074350Z
BEGIN:VALARM
UID:588B8D76-3FE0-11F1-9FF2-03B877372A87
TRIGGER:-PT60M
ACTION:DISPLAY
DESCRIPTION:SUMMARY:Konfirmationsgottesdienst
END:VALARM
END:VEVENT
END:VCALENDAR
