BEGIN:VCALENDAR
VERSION:2.0
PRODID: -//CMS 5.0 //NONSGML //DE
BEGIN:VEVENT
SUMMARY:Unterrichtssonntag - Konfirmanden und Religionsschüler
DESCRIPTION:\n\nhttps://bezirk-kiel.nak-nordost.de/db/552307
UID:552307@bezirk-kiel.nak-nordost.de
LOCATION:Carmen Treiber
CATEGORIES:Kinder,Zusammenkünfte,Gemeinde Hohenwestedt,Gottesdienst,Kirchenbezirk Kiel,Kirchenbezirk Kiel (Alle Gemeinden)
X-ORGANIZER:
STATUS:CONFIRMED
CLASS:PUBLIC
DTSTART:20260503T080000Z
DTEND:20260503T110000Z
DTSTAMP:20260423T084721Z
CREATED:20251028T180306Z
LAST-MODIFIED:20251210T070135Z
BEGIN:VALARM
UID:0B177482-3EF1-11F1-B89A-9E8E6D372A87
TRIGGER:-PT60M
ACTION:DISPLAY
DESCRIPTION:SUMMARY:Unterrichtssonntag - Konfirmanden und Religionsschüler
END:VALARM
END:VEVENT
END:VCALENDAR
