BEGIN:VCALENDAR
VERSION:2.0
PRODID: -//CMS 5.0 //NONSGML //DE
BEGIN:VEVENT
SUMMARY:Konfirmationsgottesdienst
DESCRIPTION:\n\nhttps://bezirk-kiel.nak-nordost.de/db/460421
UID:460421@bezirk-kiel.nak-nordost.de
LOCATION:Frank Meier
CATEGORIES:Kirchenbezirk Kiel (Alle Gemeinden),Kirchenbezirk Kiel,Gemeinde Eutin,Kinder
X-ORGANIZER:
STATUS:CONFIRMED
CLASS:PUBLIC
DTSTART:20260426T080000Z
DTEND:20260426T093000Z
DTSTAMP:20260423T084722Z
CREATED:20250108T095420Z
LAST-MODIFIED:20260318T073959Z
BEGIN:VALARM
UID:0B8F539E-3EF1-11F1-B513-FA8D6D372A87
TRIGGER:-PT60M
ACTION:DISPLAY
DESCRIPTION:SUMMARY:Konfirmationsgottesdienst
END:VALARM
END:VEVENT
END:VCALENDAR
